BEGIN:VCALENDAR
VERSION:2.0
PRODID:-//st-michael-oesbern//NONSGML kigkonsult.se iCalcreator 2.30.10//
CALSCALE:GREGORIAN
METHOD:PUBLISH
UID:9a6f23e3-e704-452d-b0ee-9f4ef55349f6
X-WR-CALNAME:iCagenda
X-WR-CALDESC:Event Management Extension for Joomla!
X-WR-RELCALID:3E26604A-50F4-4449-8B3E-E4F4932D05B5
X-WR-TIMEZONE:UTC
BEGIN:VTIMEZONE
TZID:UTC
END:VTIMEZONE
BEGIN:VEVENT
UID:ab681444-5b74-40dd-883f-4a9a5832d191
DTSTAMP:20260420T023400Z
CATEGORIES:Versammlung
CLASS:PUBLIC
DESCRIPTION:
DTSTART:20260418T150000Z
DTEND:20260418T235900Z
GEO:+51.120029;+8.068257
LOCATION:
ORGANIZER:
SEQUENCE:1
SUMMARY:Bundesversammlung des SSB in Meggen
TRANSP:OPAQUE
URL:https://www.st-michael-oesbern.de/index.php/component/icagenda/51-bunde
 sversammlung-des-ssb-in-meggen?Itemid=101
END:VEVENT
END:VCALENDAR
