BEGIN:VCALENDAR
VERSION:2.0
PRODID:-//st-michael-oesbern//NONSGML kigkonsult.se iCalcreator 2.30.10//
CALSCALE:GREGORIAN
METHOD:PUBLISH
UID:c9e98750-7cda-405e-86df-c9cc8785b76e
X-WR-CALNAME:iCagenda
X-WR-CALDESC:Event Management Extension for Joomla!
X-WR-RELCALID:3E26604A-50F4-4449-8B3E-E4F4932D05B5
X-WR-TIMEZONE:UTC
BEGIN:VTIMEZONE
TZID:UTC
END:VTIMEZONE
BEGIN:VEVENT
UID:13197029-e43a-43dd-abd0-7e5c76bb8cec
DTSTAMP:20260423T164716Z
CATEGORIES:Arbeitseinsatz
CLASS:PUBLIC
DESCRIPTION:
DTSTART:20260307T100000Z
DTEND:20260307T235900Z
GEO:00;0
LOCATION:
ORGANIZER:
SEQUENCE:1
SUMMARY:Altpapiersammlung
TRANSP:OPAQUE
URL:https://www.st-michael-oesbern.de/index.php/component/icagenda/49-altpa
 piersammlung-3?Itemid=101
END:VEVENT
END:VCALENDAR
