BEGIN:VCALENDAR
VERSION:2.0
PRODID:-//st-michael-oesbern//NONSGML kigkonsult.se iCalcreator 2.30.10//
CALSCALE:GREGORIAN
METHOD:PUBLISH
UID:fa3ecf70-2cf9-4afe-a220-58074f341ba3
X-WR-CALNAME:iCagenda
X-WR-CALDESC:Event Management Extension for Joomla!
X-WR-RELCALID:3E26604A-50F4-4449-8B3E-E4F4932D05B5
X-WR-TIMEZONE:UTC
BEGIN:VTIMEZONE
TZID:UTC
END:VTIMEZONE
BEGIN:VEVENT
UID:98513685-a01d-47a3-9826-eb1780aa7005
DTSTAMP:20260424T123707Z
CATEGORIES:Schützenfest
CLASS:PUBLIC
DESCRIPTION:
DTSTART:20250920T120000Z
DTEND:20250920T235900Z
GEO:+51.459694;+7.762671
LOCATION:
ORGANIZER:
SEQUENCE:1
SUMMARY:Bundesschützenfest des Sauleränderschützenbundes in Bösperde
TRANSP:OPAQUE
URL:https://www.st-michael-oesbern.de/index.php/component/icagenda/46-bunde
 sschuetzenfest-des-sauleraenderschuetzenbundes-in-boesperde-2?Itemid=101
END:VEVENT
END:VCALENDAR
