BEGIN:VCALENDAR
VERSION:2.0
PRODID:-//st-michael-oesbern//NONSGML kigkonsult.se iCalcreator 2.30.10//
CALSCALE:GREGORIAN
METHOD:PUBLISH
UID:79de5e59-ac89-43df-bb30-4682c928fc97
X-WR-CALNAME:iCagenda
X-WR-CALDESC:Event Management Extension for Joomla!
X-WR-RELCALID:3E26604A-50F4-4449-8B3E-E4F4932D05B5
X-WR-TIMEZONE:UTC
BEGIN:VTIMEZONE
TZID:UTC
END:VTIMEZONE
BEGIN:VEVENT
UID:3114b8fb-f6fe-46f5-bc18-39c5673e51ff
DTSTAMP:20260419T120021Z
CATEGORIES:Schützenfest
CLASS:PUBLIC
DESCRIPTION:
DTSTART:20250919T000000Z
DTEND:20250919T235900Z
GEO:+51.459694;+7.762671
LOCATION:
ORGANIZER:
SEQUENCE:1
SUMMARY:Bundesschützenfest des Sauleränderschützenbundes in Bösperde
TRANSP:OPAQUE
URL:https://www.st-michael-oesbern.de/index.php/component/icagenda/45-bunde
 sschuetzenfest-des-sauleraenderschuetzenbundes-in-boesperde?Itemid=101
END:VEVENT
END:VCALENDAR
