BEGIN:VCALENDAR
VERSION:2.0
PRODID:-//st-michael-oesbern//NONSGML kigkonsult.se iCalcreator 2.30.10//
CALSCALE:GREGORIAN
METHOD:PUBLISH
UID:2fccbb02-734d-4e1a-b6e4-a133ce81a50f
X-WR-CALNAME:iCagenda
X-WR-CALDESC:Event Management Extension for Joomla!
X-WR-RELCALID:3E26604A-50F4-4449-8B3E-E4F4932D05B5
X-WR-TIMEZONE:UTC
BEGIN:VTIMEZONE
TZID:UTC
END:VTIMEZONE
BEGIN:VEVENT
UID:403f69a1-0a30-489e-9c39-c3a255a624f1
DTSTAMP:20260423T232427Z
CATEGORIES:Schützenfest
CLASS:PUBLIC
DESCRIPTION:
DTSTART:20250810T103000Z
DTEND:20250810T113000Z
GEO:+51.422684;+7.860206
LOCATION:
ORGANIZER:
SEQUENCE:1
SUMMARY:Schützenfest SBS St. Hubertus Lürbke\, Frühschoppen
TRANSP:OPAQUE
URL:https://www.st-michael-oesbern.de/index.php/component/icagenda/37-schue
 tzenfest-sbs-st-hubertus-luerbke-fruehschoppen?Itemid=101
END:VEVENT
END:VCALENDAR
