BEGIN:VCALENDAR
VERSION:2.0
PRODID:-//st-michael-oesbern//NONSGML kigkonsult.se iCalcreator 2.30.10//
CALSCALE:GREGORIAN
METHOD:PUBLISH
UID:906232dd-ad3a-4127-9876-af4e941e6043
X-WR-CALNAME:iCagenda
X-WR-CALDESC:Event Management Extension for Joomla!
X-WR-RELCALID:3E26604A-50F4-4449-8B3E-E4F4932D05B5
X-WR-TIMEZONE:UTC
BEGIN:VTIMEZONE
TZID:UTC
END:VTIMEZONE
BEGIN:VEVENT
UID:1fc8fd9f-16a9-4099-b542-9fb8f555a3f1
DTSTAMP:20260421T013135Z
CATEGORIES:Schützenfest
CLASS:PUBLIC
DESCRIPTION:
DTSTART:20250705T160000Z
DTEND:20250707T235900Z
GEO:+51.443245;+7.845985
LOCATION:
ORGANIZER:
SEQUENCE:1
SUMMARY:Schützenfest SBS St. Michael Oesbern
TRANSP:OPAQUE
URL:https://www.st-michael-oesbern.de/index.php/component/icagenda/34-schue
 tzenfest-sbs-st-michael-oesbern?Itemid=101
END:VEVENT
END:VCALENDAR
