BEGIN:VCALENDAR
VERSION:2.0
PRODID:-//st-michael-oesbern//NONSGML kigkonsult.se iCalcreator 2.30.10//
CALSCALE:GREGORIAN
METHOD:PUBLISH
UID:c6000ca6-144c-4172-ba6a-46ea16fd3b3d
X-WR-CALNAME:iCagenda
X-WR-CALDESC:Event Management Extension for Joomla!
X-WR-RELCALID:3E26604A-50F4-4449-8B3E-E4F4932D05B5
X-WR-TIMEZONE:UTC
BEGIN:VTIMEZONE
TZID:UTC
END:VTIMEZONE
BEGIN:VEVENT
UID:1cd557cd-9a54-45f6-8d83-c47cbd8d4e37
DTSTAMP:20260424T161514Z
CATEGORIES:Schützenfest
CLASS:PUBLIC
DESCRIPTION:
DTSTART:20250628T163000Z
DTEND:20250628T235900Z
GEO:+51.436699;+7.842416
LOCATION:
ORGANIZER:
SEQUENCE:1
SUMMARY:Exerzieren der SBS St. Michael Oesbern
TRANSP:OPAQUE
URL:https://www.st-michael-oesbern.de/index.php/component/icagenda/33-exerz
 ieren-der-sbs-st-michael-oesbern?Itemid=101
END:VEVENT
END:VCALENDAR
