BEGIN:VCALENDAR
VERSION:2.0
PRODID:-//st-michael-oesbern//NONSGML kigkonsult.se iCalcreator 2.30.10//
CALSCALE:GREGORIAN
METHOD:PUBLISH
UID:fe8e87eb-61f6-4bf5-a39a-a9b52e11595b
X-WR-CALNAME:iCagenda
X-WR-CALDESC:Event Management Extension for Joomla!
X-WR-RELCALID:3E26604A-50F4-4449-8B3E-E4F4932D05B5
X-WR-TIMEZONE:UTC
BEGIN:VTIMEZONE
TZID:UTC
END:VTIMEZONE
BEGIN:VEVENT
UID:0de9d4af-dda0-4fe0-97b2-e95476a09925
DTSTAMP:20260420T073515Z
CATEGORIES:Arbeitseinsatz
CLASS:PUBLIC
DESCRIPTION:
DTSTART:20250614T100000Z
DTEND:20250614T140000Z
GEO:+51.443703;+7.847136
LOCATION:Parkplatz St. Aloyisiuns Oesbern\, Battenfeldswiese
ORGANIZER:
SEQUENCE:1
SUMMARY:Altpapiersammlung
TRANSP:OPAQUE
URL:https://www.st-michael-oesbern.de/index.php/component/icagenda/30-altpa
 piersammlung?Itemid=101
END:VEVENT
END:VCALENDAR
