BEGIN:VCALENDAR
VERSION:2.0
PRODID:-//st-michael-oesbern//NONSGML kigkonsult.se iCalcreator 2.30.10//
CALSCALE:GREGORIAN
METHOD:PUBLISH
UID:0851667c-e46e-4505-be1d-3fc576f3f640
X-WR-CALNAME:iCagenda
X-WR-CALDESC:Event Management Extension for Joomla!
X-WR-RELCALID:3E26604A-50F4-4449-8B3E-E4F4932D05B5
X-WR-TIMEZONE:UTC
BEGIN:VTIMEZONE
TZID:UTC
END:VTIMEZONE
BEGIN:VEVENT
UID:3bf46a70-0950-4c15-8a3d-6faf1726672b
DTSTAMP:20260425T001741Z
CATEGORIES:Schützenfest
CLASS:PUBLIC
DESCRIPTION;ALTREP="CID:<FFFF__=0ABBE548DFE235B58f9e8a93d@coffeebean.com>":
 Weitere Informationen folgen...
DTSTART:20240713T204800Z
DTEND:20240713T204800Z
GEO:00;0
LOCATION:
ORGANIZER:
SEQUENCE:1
SUMMARY:Grillen mit dem neuen Königspaar / Hofstaat
TRANSP:OPAQUE
URL:https://www.st-michael-oesbern.de/index.php/component/icagenda/25-grill
 en-mit-dem-neuen-koenigspaar-hofstaat/2024-07-13-20-48?Itemid=101
END:VEVENT
END:VCALENDAR
