BEGIN:VCALENDAR
VERSION:2.0
PRODID:-//st-michael-oesbern//NONSGML kigkonsult.se iCalcreator 2.30.10//
CALSCALE:GREGORIAN
METHOD:PUBLISH
UID:13799266-e443-4db8-ad1d-2dce9d0f88fe
X-WR-CALNAME:iCagenda
X-WR-CALDESC:Event Management Extension for Joomla!
X-WR-RELCALID:3E26604A-50F4-4449-8B3E-E4F4932D05B5
X-WR-TIMEZONE:UTC
BEGIN:VTIMEZONE
TZID:UTC
END:VTIMEZONE
BEGIN:VEVENT
UID:7212319a-2794-4366-8630-a6f5fb9aa7ae
DTSTAMP:20260424T214811Z
CATEGORIES:Schützenfest
CLASS:PUBLIC
DESCRIPTION;ALTREP="CID:<FFFF__=0ABBE548DFE235B58f9e8a93d@coffeebean.com>":
 Wir besuchen den Zapfenstreich und Festakt unserer Freunde der Schützenbru
 derschaft St. Hubertus Menden Nord anlässlich ihres 75. jährigen Bestehens
  mit einer Abordnung.\nAnmeldungen bei unserem Brudermeister Björn.\nAm Ab
 end findet in der Hubertushalle ein Event mit den Amigos statt. Der Eintri
 tt ist frei. Hier ist keine Anmeldung nötig\, bitte in Uniform oder Polosh
 irt erscheinen um die Zugehörigkeit zu unserer Bruderschaft zu unterstreic
 hen.\nWir bitten um rege Teilnahme!
DTSTART:20240622T170000Z
DTEND:20240622T170000Z
GEO:+51.43779;+7.795382
LOCATION:Altes Rathaus / Rathausplatz
ORGANIZER:
SEQUENCE:1
SUMMARY:Zapfenstreich und Festakt St. Hubertus Menden Nord
TRANSP:OPAQUE
URL:https://www.st-michael-oesbern.de/index.php/component/icagenda/24-zapfe
 nstreich-und-festakt-st-hubertus-menden-nord/2024-06-22-17-00?Itemid=101
END:VEVENT
END:VCALENDAR
