BEGIN:VCALENDAR
VERSION:2.0
PRODID:-//st-michael-oesbern//NONSGML kigkonsult.se iCalcreator 2.30.10//
CALSCALE:GREGORIAN
METHOD:PUBLISH
UID:348d54a0-bcbc-478d-ac6d-a30ffa0f31fd
X-WR-CALNAME:iCagenda
X-WR-CALDESC:Event Management Extension for Joomla!
X-WR-RELCALID:3E26604A-50F4-4449-8B3E-E4F4932D05B5
X-WR-TIMEZONE:UTC
BEGIN:VTIMEZONE
TZID:UTC
END:VTIMEZONE
BEGIN:VEVENT
UID:07bb5452-758f-4fe8-b34f-df7788ac81c9
DTSTAMP:20260424T061415Z
CATEGORIES:Versammlung
CLASS:PUBLIC
DESCRIPTION;ALTREP="CID:<FFFF__=0ABBE548DFE235B58f9e8a93d@coffeebean.com>":
 Einladung zur Generalversammlung 2024\nSehr geehrte Mitglieder\, liebe Sch
 ützenschwestern und Schützenbrüder\,liebe Oesberner Vereine\,hiermit laden
  wir Euch recht herzlich zu unserer diesjährigen Generalversammlung inkl. 
 Vorstandswahlen ein.\nDiese findet am Freitag\, 02.02.2024\, um 20 Uhr im 
 Alten Gasthaus Hempelmann statt.\nWir bitten um rege Teilnahme!\n \nTAGESO
 RDNUNG1. Begrüßung2. Totenehrung3. Protokoll der Generalversammlung 20234.
  Jahresbericht 20235. Bericht der Jungschützenabteilung6. Kassenberichte 2
 0237. Bericht der Kassenprüfer8. Wahl von zwei Kassenprüfern9. Wahl der Vo
 rstandsgruppe 2a. 2. Vorsitzende/rb. 1. Kassenwart/inc. 2. Schriftführer/i
 nd. Fähnrich (m/w/d)e. Mitgliederbeauftragter10. Termine 202411. Verschied
 enes
DTSTART:20240202T200000Z
DTEND:20240202T200000Z
GEO:+51.439732;+7.845416
LOCATION:Altes Gasthaus Hempelmann
ORGANIZER:
SEQUENCE:1
SUMMARY:Generalversammlung BSB St. Michael Oesbern
TRANSP:OPAQUE
URL:https://www.st-michael-oesbern.de/index.php/component/icagenda/14-gener
 alversammlung-bsb-st-michael-oesbern/2024-02-02-20-00?Itemid=101
END:VEVENT
END:VCALENDAR
